BEGIN:VCALENDAR
VERSION:2.0
PRODID:icalendar-ruby
CALSCALE:GREGORIAN
METHOD:PUBLISH
BEGIN:VEVENT
DTSTAMP:20260421T095448Z
UID:10-1668635@powerofgodchristiancenter.com
DTSTART:20260604T020000Z
DTEND:20260604T033000Z
CLASS:PUBLIC
CREATED:20260412T210024
DESCRIPTION:Join us for some family time starting at 7PM!\nBring your best
  dish or dessert to share with your church family!
LAST-MODIFIED:20260412T210024
LOCATION:1503 N. McClelland St.\, Santa Maria\, CA 93454
SUMMARY:First Wednesday Fellowship
URL;VALUE=URI:https://powerofgodchristiancenter.com/events/first-wednesday-
 fellowship/2026-06-03
ATTACH;FILENAME=WedNiteFellowship.png;FMTTYPE=image/png:https://dq5pwpg1q8r
 u0.cloudfront.net/2022/01/29/16/47/20/4fe2145e-e222-4d0f-a7a6-ea5c034632b7
 /WedNiteFellowship.png
END:VEVENT
END:VCALENDAR
