BEGIN:VCALENDAR
VERSION:2.0
PRODID:icalendar-ruby
CALSCALE:GREGORIAN
METHOD:PUBLISH
BEGIN:VEVENT
DTSTAMP:20260423T103814Z
UID:16-1729586@powerofgodchristiancenter.com
DTSTART:20261025T170000Z
DTEND:20261025T183000Z
CLASS:PUBLIC
CREATED:20260422T183140
DESCRIPTION:
LAST-MODIFIED:20260422T183140
LOCATION:1503 N McClelland St\, Santa Maria\, CA 93454
SUMMARY:Sunday Morning Worship Service
URL;VALUE=URI:https://powerofgodchristiancenter.com/events/sunday-morning-w
 orship-service/2026-10-25
END:VEVENT
END:VCALENDAR
