BEGIN:VCALENDAR
VERSION:2.0
PRODID:icalendar-ruby
CALSCALE:GREGORIAN
METHOD:PUBLISH
BEGIN:VEVENT
DTSTAMP:20260423T123621Z
UID:16-1730602@powerofgodchristiancenter.com
DTSTART:20261101T180000Z
DTEND:20261101T193000Z
CLASS:PUBLIC
CREATED:20260423T040055
DESCRIPTION:
LAST-MODIFIED:20260423T040055
LOCATION:1503 N McClelland St\, Santa Maria\, CA 93454
SUMMARY:Sunday Morning Worship Service
URL;VALUE=URI:https://powerofgodchristiancenter.com/events/sunday-morning-w
 orship-service/2026-11-01
END:VEVENT
END:VCALENDAR
